BEGIN:VCALENDAR
VERSION:2.0
PRODID:-//One Under Craft Beer + Eats - ECPv6.15.20//NONSGML v1.0//EN
CALSCALE:GREGORIAN
METHOD:PUBLISH
X-ORIGINAL-URL:https://oneunderbar.com
X-WR-CALDESC:Events for One Under Craft Beer + Eats
REFRESH-INTERVAL;VALUE=DURATION:PT1H
X-Robots-Tag:noindex
X-PUBLISHED-TTL:PT1H
BEGIN:VTIMEZONE
TZID:America/Detroit
BEGIN:DAYLIGHT
TZOFFSETFROM:-0500
TZOFFSETTO:-0400
TZNAME:EDT
DTSTART:20250309T070000
END:DAYLIGHT
BEGIN:STANDARD
TZOFFSETFROM:-0400
TZOFFSETTO:-0500
TZNAME:EST
DTSTART:20251102T060000
END:STANDARD
BEGIN:DAYLIGHT
TZOFFSETFROM:-0500
TZOFFSETTO:-0400
TZNAME:EDT
DTSTART:20260308T070000
END:DAYLIGHT
BEGIN:STANDARD
TZOFFSETFROM:-0400
TZOFFSETTO:-0500
TZNAME:EST
DTSTART:20261101T060000
END:STANDARD
BEGIN:DAYLIGHT
TZOFFSETFROM:-0500
TZOFFSETTO:-0400
TZNAME:EDT
DTSTART:20270314T070000
END:DAYLIGHT
BEGIN:STANDARD
TZOFFSETFROM:-0400
TZOFFSETTO:-0500
TZNAME:EST
DTSTART:20271107T060000
END:STANDARD
END:VTIMEZONE
BEGIN:VEVENT
DTSTART;TZID=America/Detroit:20260306T090000
DTEND;TZID=America/Detroit:20260306T233000
DTSTAMP:20260422T070845
CREATED:20260115T174257Z
LAST-MODIFIED:20260115T174257Z
UID:1991-1772787600-1772839800@oneunderbar.com
SUMMARY:DJ ZIG-ZAG - March 6\, 2026
DESCRIPTION:DJ ZIG-ZAG this Friday\, March 6\, 2026\, 9:00 PM\nDrink specials from 9:00PM – 10:30PM \n\n$3 bottle beers\n$3 White Claws\n$3 High Noons\n$5 draft beer\nliquor and wine specials\n\nAbout DJ Zig-Zag\nDJ Zig-Zag is focused on high customer satisfaction. Reading the crowd and choosing the right music is what he does best. His specialty is blending music and crowd interaction. Join us this Friday night for great vibes! \nNO COVER
URL:https://oneunderbar.com/event/dj-zig-zag-march-6-2026/
LOCATION:One Under Bar\, 35780 5 Mile Road\, Livonia\, MI\, 48154\, United States
CATEGORIES:DJ MUSIC
ATTACH;FMTTYPE=image/jpeg:https://oneunderbar.com/wp-content/uploads/2026/01/DJ-Zig-Zag-Friday-at-One-Under-Bar-in-Livonia-2026.jpg
END:VEVENT
BEGIN:VEVENT
DTSTART;TZID=America/Detroit:20260307T090000
DTEND;TZID=America/Detroit:20260307T233000
DTSTAMP:20260422T070845
CREATED:20260115T174544Z
LAST-MODIFIED:20260115T174544Z
UID:1993-1772874000-1772926200@oneunderbar.com
SUMMARY:DJ ZIG-ZAG - March 7\, 2026
DESCRIPTION:DJ ZIG-ZAG this Saturday\, March 7\, 2026\, 9:00 PM\nDrink specials from 9:00PM – 10:30PM \n\n$3 bottle beers\n$3 White Claws\n$3 High Noons\n$5 draft beer\nliquor and wine specials\n\nAbout DJ Zig-Zag\nDJ Zig-Zag is focused on high customer satisfaction. Reading the crowd and choosing the right music is what he does best. His specialty is blending music and crowd interaction. Join us this Saturday night for great vibes! \nNO COVER
URL:https://oneunderbar.com/event/dj-zig-zag-march-7-2026/
LOCATION:One Under Bar\, 35780 5 Mile Road\, Livonia\, MI\, 48154\, United States
CATEGORIES:DJ MUSIC
ATTACH;FMTTYPE=image/jpeg:https://oneunderbar.com/wp-content/uploads/2026/01/DJ-Zig-Zag-Saturday-at-One-Under-Bar-in-Livonia-2026.jpg
END:VEVENT
BEGIN:VEVENT
DTSTART;TZID=America/Detroit:20260313T090000
DTEND;TZID=America/Detroit:20260313T233000
DTSTAMP:20260422T070845
CREATED:20260115T180325Z
LAST-MODIFIED:20260115T180325Z
UID:1995-1773392400-1773444600@oneunderbar.com
SUMMARY:DJ ZIG-ZAG - March 13\, 2026
DESCRIPTION:DJ ZIG-ZAG this Friday\, March 13\, 2026\, 9:00 PM\nDrink specials from 9:00PM – 10:30PM \n\n$3 bottle beers\n$3 White Claws\n$3 High Noons\n$5 draft beer\nliquor and wine specials\n\nAbout DJ Zig-Zag\nDJ Zig-Zag is focused on high customer satisfaction. Reading the crowd and choosing the right music is what he does best. His specialty is blending music and crowd interaction. Join us this Friday night for great vibes! \nNO COVER
URL:https://oneunderbar.com/event/dj-zig-zag-march-13-2026/
LOCATION:One Under Bar\, 35780 5 Mile Road\, Livonia\, MI\, 48154\, United States
CATEGORIES:DJ MUSIC
ATTACH;FMTTYPE=image/jpeg:https://oneunderbar.com/wp-content/uploads/2026/01/DJ-Zig-Zag-Friday-at-One-Under-Bar-in-Livonia-2026.jpg
END:VEVENT
BEGIN:VEVENT
DTSTART;TZID=America/Detroit:20260314T090000
DTEND;TZID=America/Detroit:20260314T233000
DTSTAMP:20260422T070845
CREATED:20260115T180555Z
LAST-MODIFIED:20260115T180555Z
UID:1997-1773478800-1773531000@oneunderbar.com
SUMMARY:DJ ZIG-ZAG - March 14\, 2026
DESCRIPTION:DJ ZIG-ZAG this Saturday\, March 14\, 2026\, 9:00 PM\nDrink specials from 9:00PM – 10:30PM \n\n$3 bottle beers\n$3 White Claws\n$3 High Noons\n$5 draft beer\nliquor and wine specials\n\nAbout DJ Zig-Zag\nDJ Zig-Zag is focused on high customer satisfaction. Reading the crowd and choosing the right music is what he does best. His specialty is blending music and crowd interaction. Join us this Saturday night for great vibes! \nNO COVER
URL:https://oneunderbar.com/event/dj-zig-zag-march-14-2026/
LOCATION:One Under Bar\, 35780 5 Mile Road\, Livonia\, MI\, 48154\, United States
CATEGORIES:DJ MUSIC
ATTACH;FMTTYPE=image/jpeg:https://oneunderbar.com/wp-content/uploads/2026/01/DJ-Zig-Zag-Saturday-at-One-Under-Bar-in-Livonia-2026.jpg
END:VEVENT
BEGIN:VEVENT
DTSTART;VALUE=DATE:20260317
DTEND;VALUE=DATE:20260319
DTSTAMP:20260422T070845
CREATED:20260226T020320Z
LAST-MODIFIED:20260313T185003Z
UID:2037-1773709200-1773795599@oneunderbar.com
SUMMARY:ShamRock & Roll into St. Patrick's Day at One Under Bar!
DESCRIPTION:Get ready to paint the town green! One Under Bar in Livonia is your St. Patrick’s Day headquarters\, with a full day of festive fun planned for Tuesday\, March 17th\, starting at 11:00 AM. ☘️ \n☘️ GET SHAM-ROCKED AT ONE UNDER! ☘️\nLivonia’s biggest St. Paddy’s Day bash is happening this Tuesday\, March 17th\, and we’re pulling out all the stops! Whether you’re here for the legendary eats or the electric energy\, we’ve got your pot of gold right here. \n🍻 THE PARTY SETUP\n\n\n3 FULL BARS: Less waiting\, more hydrating! \n\n\nHEATED PATIO: Keep the party going inside or out—we’ve got the heaters cranked. \n\n\nDRINK SPECIALS ALL DAY: Sláinte! We’re pouring the good stuff from open to close. \n\n\n🥩 THE IRISH FEAST\nCome hungry! We’re serving up a trio of corned beef perfection: \n\n\nTraditional Corned Beef & Cabbage (The classic!) \n\n\nCorned Beef Spring Rolls (Your new favorite snack) \n\n\nCorned Beef Reuben (Stacked high and legendary) \n\n\n🎵 THE VIBE\nDJ ZIG ZAG will be in the mix all day and night\, dropping all the hits and music videos to keep the dance floor moving! 🎧🎥 \n\n📍 One Under Craft Beer & Eats 📅 Tuesday\, March 17th 🌐 www.oneunderbar.com \nDon’t leave your luck to chance—gather the crew and meet us at the bar! 🌈💰 \n\nCelebrate St. Patrick’s Day in Style!\nJoin us at One Under Bar for an unforgettable St. Patrick’s Day celebration. Whether you’re Irish or just Irish for the day\, we’ve got everything you need for a fantastic time!
URL:https://oneunderbar.com/event/shamrock-roll-into-st-patricks-day-at-one-under-bar-march-17-2026/
LOCATION:One Under Bar\, 35780 5 Mile Road\, Livonia\, MI\, 48154\, United States
CATEGORIES:DJ MUSIC
ATTACH;FMTTYPE=image/jpeg:https://oneunderbar.com/wp-content/uploads/2026/02/St-Patricks-Day-Party-One-Under-Bar-in-Livonia-Michigan-2026.jpg
END:VEVENT
BEGIN:VEVENT
DTSTART;TZID=America/Detroit:20260320T090000
DTEND;TZID=America/Detroit:20260320T233000
DTSTAMP:20260422T070845
CREATED:20260115T180835Z
LAST-MODIFIED:20260115T180835Z
UID:1999-1773997200-1774049400@oneunderbar.com
SUMMARY:DJ ZIG-ZAG - March 20\, 2026
DESCRIPTION:DJ ZIG-ZAG this Friday\, March 20\, 2026\, 9:00 PM\nDrink specials from 9:00PM – 10:30PM \n\n$3 bottle beers\n$3 White Claws\n$3 High Noons\n$5 draft beer\nliquor and wine specials\n\nAbout DJ Zig-Zag\nDJ Zig-Zag is focused on high customer satisfaction. Reading the crowd and choosing the right music is what he does best. His specialty is blending music and crowd interaction. Join us this Friday night for great vibes! \nNO COVER
URL:https://oneunderbar.com/event/dj-zig-zag-march-20-2026/
LOCATION:One Under Bar\, 35780 5 Mile Road\, Livonia\, MI\, 48154\, United States
CATEGORIES:DJ MUSIC
ATTACH;FMTTYPE=image/jpeg:https://oneunderbar.com/wp-content/uploads/2026/01/DJ-Zig-Zag-Friday-at-One-Under-Bar-in-Livonia-2026.jpg
END:VEVENT
BEGIN:VEVENT
DTSTART;TZID=America/Detroit:20260321T090000
DTEND;TZID=America/Detroit:20260321T233000
DTSTAMP:20260422T070845
CREATED:20260115T181110Z
LAST-MODIFIED:20260115T181110Z
UID:2001-1774083600-1774135800@oneunderbar.com
SUMMARY:DJ ZIG-ZAG - March 21\, 2026
DESCRIPTION:DJ ZIG-ZAG this Saturday\, March 21\, 2026\, 9:00 PM\nDrink specials from 9:00PM – 10:30PM \n\n$3 bottle beers\n$3 White Claws\n$3 High Noons\n$5 draft beer\nliquor and wine specials\n\nAbout DJ Zig-Zag\nDJ Zig-Zag is focused on high customer satisfaction. Reading the crowd and choosing the right music is what he does best. His specialty is blending music and crowd interaction. Join us this Saturday night for great vibes! \nNO COVER
URL:https://oneunderbar.com/event/dj-zig-zag-march-21-2026/
LOCATION:One Under Bar\, 35780 5 Mile Road\, Livonia\, MI\, 48154\, United States
CATEGORIES:DJ MUSIC
ATTACH;FMTTYPE=image/jpeg:https://oneunderbar.com/wp-content/uploads/2026/01/DJ-Zig-Zag-Saturday-at-One-Under-Bar-in-Livonia-2026.jpg
END:VEVENT
BEGIN:VEVENT
DTSTART;TZID=America/Detroit:20260327T090000
DTEND;TZID=America/Detroit:20260327T233000
DTSTAMP:20260422T070845
CREATED:20260115T181345Z
LAST-MODIFIED:20260115T181345Z
UID:2003-1774602000-1774654200@oneunderbar.com
SUMMARY:DJ ZIG-ZAG - March 27\, 2026
DESCRIPTION:DJ ZIG-ZAG this Friday\, March 27\, 2026\, 9:00 PM\nDrink specials from 9:00PM – 10:30PM \n\n$3 bottle beers\n$3 White Claws\n$3 High Noons\n$5 draft beer\nliquor and wine specials\n\nAbout DJ Zig-Zag\nDJ Zig-Zag is focused on high customer satisfaction. Reading the crowd and choosing the right music is what he does best. His specialty is blending music and crowd interaction. Join us this Friday night for great vibes! \nNO COVER
URL:https://oneunderbar.com/event/dj-zig-zag-march-27-2026/
LOCATION:One Under Bar\, 35780 5 Mile Road\, Livonia\, MI\, 48154\, United States
CATEGORIES:DJ MUSIC
ATTACH;FMTTYPE=image/jpeg:https://oneunderbar.com/wp-content/uploads/2026/01/DJ-Zig-Zag-Friday-at-One-Under-Bar-in-Livonia-2026.jpg
END:VEVENT
BEGIN:VEVENT
DTSTART;TZID=America/Detroit:20260328T090000
DTEND;TZID=America/Detroit:20260328T233000
DTSTAMP:20260422T070845
CREATED:20260115T181605Z
LAST-MODIFIED:20260115T181605Z
UID:2005-1774688400-1774740600@oneunderbar.com
SUMMARY:DJ ZIG-ZAG - March 28\, 2026
DESCRIPTION:DJ ZIG-ZAG this Saturday\, March 28\, 2026\, 9:00 PM\nDrink specials from 9:00PM – 10:30PM \n\n$3 bottle beers\n$3 White Claws\n$3 High Noons\n$5 draft beer\nliquor and wine specials\n\nAbout DJ Zig-Zag\nDJ Zig-Zag is focused on high customer satisfaction. Reading the crowd and choosing the right music is what he does best. His specialty is blending music and crowd interaction. Join us this Saturday night for great vibes! \nNO COVER
URL:https://oneunderbar.com/event/dj-zig-zag-march-28-2026/
LOCATION:One Under Bar\, 35780 5 Mile Road\, Livonia\, MI\, 48154\, United States
CATEGORIES:DJ MUSIC
ATTACH;FMTTYPE=image/jpeg:https://oneunderbar.com/wp-content/uploads/2026/01/DJ-Zig-Zag-Saturday-at-One-Under-Bar-in-Livonia-2026.jpg
END:VEVENT
END:VCALENDAR